
BEGIN:VCALENDAR
VERSION:2.0
PRODID:-//ZContent.net//Zap Calendar 1.0//EN
BEGIN:VEVENT
SUMMARY:L’application du droit OHADA dans les pays membres : quels enjeux quelles difficultés pour les investisseurs étrangers ?
STATUS:CONFIRMED
DTSTART:20140325T090000
DTEND:20140325T103000
LOCATION:8 avenue de Messine - 75008 Paris
URL:https://www.august-debouzy.com/fr/event/1323-lapplication-du-droit-ohada-dans-les-pays-membres-quels-enjeux-quelles-difficultes-pour-les-investisseurs-etrangers
END:VEVENT
END:VCALENDAR