
BEGIN:VCALENDAR
VERSION:2.0
PRODID:-//ZContent.net//Zap Calendar 1.0//EN
BEGIN:VEVENT
SUMMARY:The social network : L’employeur face à la e-liberté d’expression
STATUS:CONFIRMED
DTSTART:20130411T090000
DTEND:20130411T103000
LOCATION:8 avenue de Messine - 75008 Paris
URL:https://www.august-debouzy.com/fr/event/1360-the-social-network-lemployeur-face-a-la-e-liberte-dexpression
END:VEVENT
END:VCALENDAR