
BEGIN:VCALENDAR
VERSION:2.0
PRODID:-//ZContent.net//Zap Calendar 1.0//EN
BEGIN:VEVENT
SUMMARY:Arbitrage 2.0 : comment s'assurer d'une procédure plus efficace et moins onéreuse ? (2ème session)
STATUS:CONFIRMED
DTSTART:20190605T090000
DTEND:20190605T103000
LOCATION:8 avenue de Messine - 75008 Paris
URL:https://www.august-debouzy.com/fr/event/1562-arbitrage-20-comment-sassurer-dune-procedure-plus-efficace-et-moins-onereuse-2eme-session
END:VEVENT
END:VCALENDAR