
BEGIN:VCALENDAR
VERSION:2.0
PRODID:-//ZContent.net//Zap Calendar 1.0//EN
BEGIN:VEVENT
SUMMARY:CYCLE DE FORMATION PRIVATE M&A > Séance 2 > Les mécanismes de prix dans les opérations d’acquisition ou de cession d’actions
STATUS:CONFIRMED
DTSTART:20190912T090000
DTEND:20190912T103000
LOCATION:8 avenue de Messine - 75008 Paris
URL:https://www.august-debouzy.com/fr/event/1564-cycle-de-formation-private-ma-seance-2-les-mecanismes-de-prix-dans-les-operations-dacquisition-ou-de-cession-dactions
END:VEVENT
END:VCALENDAR