
BEGIN:VCALENDAR
VERSION:2.0
PRODID:-//ZContent.net//Zap Calendar 1.0//EN
BEGIN:VEVENT
SUMMARY:AD TALKS  | IA : menace sur les travailleurs ? ou comment l’IA oblige à repenser notre modèle social
STATUS:CONFIRMED
DTSTART:20190618T090000
DTEND:20190618T103000
LOCATION:8 avenue de Messine - 75008 Paris
URL:https://www.august-debouzy.com/fr/event/1568-ad-talks-ia-menace-sur-les-travailleurs-ou-comment-lia-oblige-a-repenser-notre-modele-social
END:VEVENT
END:VCALENDAR