
BEGIN:VCALENDAR
VERSION:2.0
PRODID:-//ZContent.net//Zap Calendar 1.0//EN
BEGIN:VEVENT
SUMMARY:AD TALKS | La répression du discours de haine sur Internet : la proposition de loi de Laetitia Avia
STATUS:CONFIRMED
DTSTART:20191114T090000
DTEND:20191114T103000
LOCATION:8 avenue de Messine - 75008 Paris
URL:https://www.august-debouzy.com/fr/event/1581-ad-talks-la-repression-du-discours-de-haine-sur-internet-la-proposition-de-loi-de-laetitia-avia
END:VEVENT
END:VCALENDAR