
BEGIN:VCALENDAR
VERSION:2.0
PRODID:-//ZContent.net//Zap Calendar 1.0//EN
BEGIN:VEVENT
SUMMARY:CYCLE DE FORMATION PRIVATE M&A > Séance 5 > Les aspects pratiques des financements d'acquisition
STATUS:CONFIRMED
DTSTART:20200128T090000
DTEND:20200128T103000
LOCATION:8 avenue de Messine - 75008 Paris
URL:https://www.august-debouzy.com/fr/event/1583-cycle-de-formation-private-ma-seance-5-les-aspects-pratiques-des-financements-dacquisition
END:VEVENT
END:VCALENDAR