
BEGIN:VCALENDAR
VERSION:2.0
PRODID:-//ZContent.net//Zap Calendar 1.0//EN
BEGIN:VEVENT
SUMMARY:Le régime français du « say on pay » issu de la loi Sapin 2 et modifié par l’ordonnance n°2019-1234 du 27 novembre 2019
STATUS:CONFIRMED
DTSTART:20200206T090000
DTEND:20200206T103000
LOCATION:8 avenue de Messine - 75008 Paris
URL:https://www.august-debouzy.com/fr/event/1587-le-regime-francais-du-say-on-pay-issu-de-la-loi-sapin-2-et-modifie-par-lordonnance-n2019-1234-du-27-novembre-2019
END:VEVENT
END:VCALENDAR