
BEGIN:VCALENDAR
VERSION:2.0
PRODID:-//ZContent.net//Zap Calendar 1.0//EN
BEGIN:VEVENT
SUMMARY:AD TALKS | Le secret professionnel des avocats est un droit des entreprises
STATUS:CONFIRMED
DTSTART:20220309T090000
DTEND:20220309T103000
LOCATION:7 Rue de Téhéran - 75008 Paris
URL:https://www.august-debouzy.com/fr/event/1623-ad-talks-le-secret-professionnel-des-avocats-est-un-droit-des-entreprises
END:VEVENT
END:VCALENDAR