
BEGIN:VCALENDAR
VERSION:2.0
PRODID:-//ZContent.net//Zap Calendar 1.0//EN
BEGIN:VEVENT
SUMMARY:Discovery à l’américaine et Loi de blocage française : quels outils pour protéger les données commerciales sensibles des sociétés françaises ?
STATUS:CONFIRMED
DTSTART:20230316T090000
DTEND:20230316T103000
LOCATION:7 Rue de Téhéran - 75008 Paris
URL:https://www.august-debouzy.com/fr/event/1665-discovery-a-lamericaine-et-loi-de-blocage-francaise-quels-outils-pour-proteger-les-donnees-commerciales-sensibles-des-societes-francaises
END:VEVENT
END:VCALENDAR