
BEGIN:VCALENDAR
VERSION:2.0
PRODID:-//ZContent.net//Zap Calendar 1.0//EN
BEGIN:VEVENT
SUMMARY:Conférence 3 | Devoir de vigilance enjeux et perspectives
STATUS:CONFIRMED
DTSTART:20241001T090000
DTEND:20241001T103000
LOCATION:7 Rue de Téhéran - 75008 Paris
URL:https://www.august-debouzy.com/fr/event/1728-cycle-3-devoir-de-vigilance-enjeux-et-perspectives
END:VEVENT
END:VCALENDAR