
BEGIN:VCALENDAR
VERSION:2.0
PRODID:-//ZContent.net//Zap Calendar 1.0//EN
BEGIN:VEVENT
SUMMARY:Innovation on Trial: Intellectual Property and International Arbitration
STATUS:CONFIRMED
DTSTART:20260324T163000
DTEND:20260324T200000
LOCATION:7 Rue de Téhéran - 75008 Paris
URL:https://www.august-debouzy.com/fr/event/1805-innovation-on-trial-intellectual-property-and-international-arbitration
END:VEVENT
END:VCALENDAR